BEGIN:VCALENDAR
VERSION:2.0
PRODID:-//hacksw/handcal//NONSGML v1.0//EN
BEGIN:VEVENT
SUMMARY:Basket ball
UID:f9856d46-2772-4d5c-b36f-ff66db56278c
DTSTART:20260421T163000Z
DTEND:20260421T190000Z
LOCATION:Localisation Groupe scolaire Sainte Helene  Nice
CATEGORIES:Sportif
STATUS:
DESCRIPTION:<p>Seance hebdomadaire <strong>LOISIR </strong>: <span
 style="color:#e74c3c;"><strong>MIXTE </strong></span>et <span
 style="color:#e74c3c;">TOUS NIVEAUX</span></p>
URL;VALUE=URI:https://www.asvishay.fr/evenements/2026/04/21/basket-ball-2440622
END:VEVENT
END:VCALENDAR
