BEGIN:VCALENDAR
VERSION:2.0
PRODID:-//hacksw/handcal//NONSGML v1.0//EN
BEGIN:VEVENT
SUMMARY:Roller Hockey
UID:44d26579-79f8-4dbf-b74b-a436e9bcbc22
DTSTART:20260422T160000Z
DTEND:20260422T190000Z
LOCATION:Localisation Complexe Sportif de la Lauvette  Nice
CATEGORIES:Sportif
STATUS:
DESCRIPTION:<p>Seance hebdomadaire <strong>LOISIR </strong>: <span
 style="color:#e74c3c;"><strong>MIXTE </strong></span>et <span
 style="color:#e74c3c;"><strong>TOUS NIVEAUX</strong></span></p>
URL;VALUE=URI:https://www.asvishay.fr/evenements/2026/04/22/roller-hockey-2440627
END:VEVENT
END:VCALENDAR
