BEGIN:VCALENDAR
VERSION:2.0
PRODID:-//hacksw/handcal//NONSGML v1.0//EN
BEGIN:VEVENT
SUMMARY:Basket ball
UID:5a141d70-5a9c-4504-a130-b0e46f913fd2
DTSTART:20260519T163000Z
DTEND:20260519T190000Z
LOCATION:Localisation Groupe scolaire Sainte Helene  Nice
CATEGORIES:Sportif
STATUS:
DESCRIPTION:<p>Seance hebdomadaire <strong>LOISIR </strong>: <span
 style="color:#e74c3c;"><strong>MIXTE </strong></span>et <span
 style="color:#e74c3c;">TOUS NIVEAUX</span></p>
URL;VALUE=URI:https://www.asvishay.fr/evenements/2026/05/19/basket-ball-2443359
END:VEVENT
END:VCALENDAR
