BEGIN:VCALENDAR
VERSION:2.0
PRODID:-//hacksw/handcal//NONSGML v1.0//EN
BEGIN:VEVENT
SUMMARY:Basket ball
UID:c08531a1-7b35-45e8-b071-78cc4c3f81ac
DTSTART:20260609T163000Z
DTEND:20260609T190000Z
LOCATION:Localisation Groupe scolaire Sainte Helene  Nice
CATEGORIES:Sportif
STATUS:
DESCRIPTION:<p>Seance hebdomadaire <strong>LOISIR </strong>: <span
 style="color:#e74c3c;"><strong>MIXTE </strong></span>et <span
 style="color:#e74c3c;">TOUS NIVEAUX</span></p>
URL;VALUE=URI:https://www.asvishay.fr/evenements/2026/06/09/basket-ball-2443366
END:VEVENT
END:VCALENDAR
