BEGIN:VCALENDAR
VERSION:2.0
PRODID:-//hacksw/handcal//NONSGML v1.0//EN
BEGIN:VEVENT
SUMMARY:Roller Hockey
UID:31c6e586-a69d-42e8-8c3a-6efbd514f4b0
DTSTART:20260610T160000Z
DTEND:20260610T190000Z
LOCATION:Localisation Complexe Sportif de la Lauvette  Nice
CATEGORIES:Sportif
STATUS:
DESCRIPTION:<p>Seance hebdomadaire <strong>LOISIR </strong>: <span
 style="color:#e74c3c;"><strong>MIXTE </strong></span>et <span
 style="color:#e74c3c;"><strong>TOUS NIVEAUX</strong></span></p>
URL;VALUE=URI:https://www.asvishay.fr/evenements/2026/06/10/roller-hockey-2443378
END:VEVENT
END:VCALENDAR
