BEGIN:VCALENDAR
VERSION:2.0
PRODID:-//hacksw/handcal//NONSGML v1.0//EN
BEGIN:VEVENT
SUMMARY:Basket ball
UID:2adaef40-3063-4eaf-8a3d-500bc4b1de98
DTSTART:20260616T163000Z
DTEND:20260616T190000Z
LOCATION:Localisation Groupe scolaire Sainte Helene  Nice
CATEGORIES:Sportif
STATUS:
DESCRIPTION:<p>Seance hebdomadaire <strong>LOISIR </strong>: <span
 style="color:#e74c3c;"><strong>MIXTE </strong></span>et <span
 style="color:#e74c3c;">TOUS NIVEAUX</span></p>
URL;VALUE=URI:https://www.asvishay.fr/evenements/2026/06/16/basket-ball-2443365
END:VEVENT
END:VCALENDAR
