BEGIN:VCALENDAR
VERSION:2.0
PRODID:-//hacksw/handcal//NONSGML v1.0//EN
BEGIN:VEVENT
SUMMARY:Roller Hockey
UID:24a68b33-fd0e-4c16-b5ad-2afa1dca9670
DTSTART:20260617T160000Z
DTEND:20260617T190000Z
LOCATION:Localisation Complexe Sportif de la Lauvette  Nice
CATEGORIES:Sportif
STATUS:
DESCRIPTION:<p>Seance hebdomadaire <strong>LOISIR </strong>: <span
 style="color:#e74c3c;"><strong>MIXTE </strong></span>et <span
 style="color:#e74c3c;"><strong>TOUS NIVEAUX</strong></span></p>
URL;VALUE=URI:https://www.asvishay.fr/evenements/2026/06/17/roller-hockey-2443377
END:VEVENT
END:VCALENDAR
